BEGIN:VCALENDAR
VERSION:2.0
PRODID:-//Athens Historical Society - ECPv6.15.16//NONSGML v1.0//EN
CALSCALE:GREGORIAN
METHOD:PUBLISH
X-WR-CALNAME:Athens Historical Society
X-ORIGINAL-URL:https://athenshistorical.org
X-WR-CALDESC:Events for Athens Historical Society
REFRESH-INTERVAL;VALUE=DURATION:PT1H
X-Robots-Tag:noindex
X-PUBLISHED-TTL:PT1H
BEGIN:VTIMEZONE
TZID:UTC
BEGIN:STANDARD
TZOFFSETFROM:+0000
TZOFFSETTO:+0000
TZNAME:UTC
DTSTART:20150101T000000
END:STANDARD
END:VTIMEZONE
BEGIN:VEVENT
DTSTART;TZID=UTC:20190127T150000
DTEND;TZID=UTC:20190127T170000
DTSTAMP:20260425T204011
CREATED:20201018T163128Z
LAST-MODIFIED:20201018T163128Z
UID:542-1548601200-1548608400@athenshistorical.org
SUMMARY:Annual Meeting and Hull Award Presentation
DESCRIPTION:Join the AHS to honor this year’s recipient of the Augustus Longstreet Hull Award\, Gary Doster.\nGary’s significant work as a writer\, presenter and researcher has spanned the breadth of Athens and Georgia history\, from Elijah Clarke to Georgia Railroad\, from southern currency to Confederate letters. Perhaps his most high profile efforts have been his postcard history books\, which make make history accessible to a wide range of audiences. If you live in or have passed through Athens\, chances are good that you have one of Gary’s publications in your bookcase.\nMark your calendar to join us for the award presentation\, followed by a program celebrating Gary and the impact of his work.
URL:https://athenshistorical.org/event/annual-meeting-and-hull-award-presentation/
LOCATION:Richard B. Russell Jr. Special Collections Library Building
CATEGORIES:Society Meeting
ATTACH;FMTTYPE=image/png:https://athenshistorical.org/wp-content/uploads/2020/10/AHS.png
END:VEVENT
BEGIN:VEVENT
DTSTART;TZID=UTC:20181021T150000
DTEND;TZID=UTC:20181021T170000
DTSTAMP:20260425T204011
CREATED:20201018T164603Z
LAST-MODIFIED:20201018T164603Z
UID:550-1540134000-1540141200@athenshistorical.org
SUMMARY:A Story Untold: Black Men and Women in Athens History
DESCRIPTION:Join Athens Historical Society and the Athens-Clarke County Library Heritage Room for this monumental anniversary. Mr. Thurmond’s presentation will cover the rich Heritage and History of African-American Athenians on the 40th anniversary of the publishing of his book A Story Untold: Black Men and Women in Athens History.
URL:https://athenshistorical.org/event/a-story-untold-black-men-and-women-in-athens-history/
LOCATION:Athens-Clarke County Library\, 2025 Baxter Street\, Athens\, GA\, 30606\, United States
CATEGORIES:Book Signing
ATTACH;FMTTYPE=image/jpeg:https://athenshistorical.org/wp-content/uploads/2020/10/oct21.jpg
END:VEVENT
BEGIN:VEVENT
DTSTART;TZID=UTC:20180722T150000
DTEND;TZID=UTC:20180722T170000
DTSTAMP:20260425T204011
CREATED:20201018T164851Z
LAST-MODIFIED:20201018T164851Z
UID:553-1532271600-1532278800@athenshistorical.org
SUMMARY:Antebellum Architecture in Athens
DESCRIPTION:James W. Lineberger will conduct this historical survey of the Greek Revival style of architecture in Athens. It features the 18 prominent built environments in this category. Not only will the presenter give in-depth descriptions of 10 of the buildings\, he will also give background on the history of their occupants. With a diverse conglomerate of 19th century personalities\, this presentation is both lively and informative.\nMr. Lineberger has written a book entitled Architecture in Athens: Then and Now\, and teaches a course about Greek Revival Architecture at Osher Lifelong Learning Institute.
URL:https://athenshistorical.org/event/antebellum-architecture-in-athens/
LOCATION:Athens-Clarke County Library\, 2025 Baxter Street\, Athens\, GA\, 30606\, United States
CATEGORIES:Book Signing
END:VEVENT
BEGIN:VEVENT
DTSTART;TZID=UTC:20180415T150000
DTEND;TZID=UTC:20180415T170000
DTSTAMP:20260425T204011
CREATED:20201018T165147Z
LAST-MODIFIED:20201018T165147Z
UID:556-1523804400-1523811600@athenshistorical.org
SUMMARY:Yesterday's Vision: The Athens City Master Plan of 1925
DESCRIPTION:Beth Whitlock of Athens Clarke County Library’s Heritage Room and Steven Brown of the UGA Hargrett Library will share the history\, photographs\, and maps of Athens’ first known master plan as developed by Warren Manning in 1924-25. Program will be held in Appleton Auditorium and followed by a reception in the Multipurpose Rooms.
URL:https://athenshistorical.org/event/yesterdays-vision-the-athens-city-master-plan-of-1925/
LOCATION:Athens-Clarke County Library\, 2025 Baxter Street\, Athens\, GA\, 30606\, United States
CATEGORIES:Book Event
END:VEVENT
BEGIN:VEVENT
DTSTART;TZID=UTC:20180128T150000
DTEND;TZID=UTC:20180128T170000
DTSTAMP:20260425T204011
CREATED:20201018T165401Z
LAST-MODIFIED:20201018T165401Z
UID:559-1517151600-1517158800@athenshistorical.org
SUMMARY:AL Hull Award Presentation & Annual Meeting
DESCRIPTION:Join the AHS to help us thank Charlotte Thomas Marshall for her tremendous contributions to Athens through her lifelong research of our community’s history.
URL:https://athenshistorical.org/event/al-hull-award-presentation-annual-meeting/
LOCATION:Richard B. Russell Jr. Special Collections Library Building
CATEGORIES:Society Meeting
ATTACH;FMTTYPE=image/jpeg:https://athenshistorical.org/wp-content/uploads/2020/10/hullaward-1.jpg
END:VEVENT
BEGIN:VEVENT
DTSTART;TZID=UTC:20171214T180000
DTEND;TZID=UTC:20171214T200000
DTSTAMP:20260425T204011
CREATED:20201018T165705Z
LAST-MODIFIED:20201018T165705Z
UID:562-1513274400-1513281600@athenshistorical.org
SUMMARY:AHS Holiday Party
DESCRIPTION:Join us for out holiday party at the fabulous Taylor-Grady House! Enjoy refreshments\, shop our selection of Athens-centric merchandise\, and mingle with your favorite Athens history buffs. A highlight will be the announcement of the recipient of the 2018 Augustus Longstreet Hull Award. You won’t want to miss this event!\nNon-member tickets are $10\, or join at the door!
URL:https://athenshistorical.org/event/ahs-holiday-party/
LOCATION:The Taylor Grady House\, 634 Prince Ave\, Athens\, GA\, 30601\, United States
CATEGORIES:Celebration
ATTACH;FMTTYPE=image/jpeg:https://athenshistorical.org/wp-content/uploads/2020/10/holiday.jpg
END:VEVENT
BEGIN:VEVENT
DTSTART;TZID=UTC:20171008T150000
DTEND;TZID=UTC:20171008T170000
DTSTAMP:20260425T204011
CREATED:20201018T165935Z
LAST-MODIFIED:20201018T165935Z
UID:566-1507474800-1507482000@athenshistorical.org
SUMMARY:October Program - CSI: Dixie
DESCRIPTION:Join us for our October program CSI Dixie: The View from the American South’s County Coroner’s Offices\, 1800 – 1900\, as Dr. Stephen Berry provides a glimpse into Victorian-era coroner’s inquests\, some of richest records we have of life and death in the nineteenth century South. Using extant coroners’ inquests for the state of South Carolina between 1800 and 1900\, Dr. Berry will explore how race\, place\, gender\, profession\, behavior\, and good and bad luck played large roles in how our forebears exited this world. .\nStephen Berry\, author\, is Gregory Professor of the Civil War Era\, Secretary-Treasurer of the Southern Historical Association\, and Co-Director\, with Claudio Saunt\, of the Center for Virtual History\, all at the University of Georgia. The author or editor of four books on the South in the Civil War Era\, he has always felt compelled to study “old\, unhappy\, far-off things.”\nSpecial thanks to our generour co-hosts Athens Clarke County Heritage Room.\nThe content being discussed may not be suitable for all ages and audiences.
URL:https://athenshistorical.org/event/october-program-csi-dixie/
LOCATION:Athens-Clarke County Library\, 2025 Baxter Street\, Athens\, GA\, 30606\, United States
CATEGORIES:Book Event
ATTACH;FMTTYPE=image/jpeg:https://athenshistorical.org/wp-content/uploads/2020/10/dixie.jpg
END:VEVENT
BEGIN:VEVENT
DTSTART;TZID=UTC:20170625T150000
DTEND;TZID=UTC:20170625T170000
DTSTAMP:20260425T204011
CREATED:20201018T170142Z
LAST-MODIFIED:20201018T170142Z
UID:569-1498402800-1498410000@athenshistorical.org
SUMMARY:The Legion's Fighting Bulldog
DESCRIPTION:Join the AHS for our June program: The Legion’s Fighting Bulldog. Co-editors Sam Thomas\, curator of the T.R.R. Cobb House in Athens\, and Vincent Dooley\, chairman of Georgia Historical Society and beloved sports personality\, will discuss the civil war correspondence of Lieutenant Colonel William Gaston Delony. Delony\, a lawyer and graduate of the University of Georgia\, furnishes through his writings a window into the lives of soldiers and their families throughout the war. The program will be followed by a book signing. Special thanks to our gracious co-sponsors UGA Libraries. Come early! This one is sure to be popular!
URL:https://athenshistorical.org/event/the-legions-fighting-bulldog/
LOCATION:Richard B. Russell Jr. Special Collections Library Building
CATEGORIES:Book Event
ATTACH;FMTTYPE=image/jpeg:https://athenshistorical.org/wp-content/uploads/2020/10/bulldog.jpg
END:VEVENT
BEGIN:VEVENT
DTSTART;TZID=UTC:20170325T080000
DTEND;TZID=UTC:20170325T170000
DTSTAMP:20260425T204011
CREATED:20201018T171100Z
LAST-MODIFIED:20201018T171100Z
UID:572-1490428800-1490461200@athenshistorical.org
SUMMARY:Ramble in the Ruins
DESCRIPTION:Steven Brown and Beth Whitlock will present a program with ramble in the extensive ruins of the Georgia Brick Company on the grounds of the Sandy Creek Nature Center. Tour the ruins with them and see a recently discovered series of 22 photographs from 1911 which show how the factory looked in its prime. These images led to the discovery that a Mrs. Frances Shaw of Chicago may have conned the Athens and Atlanta business communities.
URL:https://athenshistorical.org/event/ramble-in-the-ruins/
LOCATION:Sandy Creek Nature Park\, 205 Old Commerce Rd\, Athens\, GA\, 30607\, United States
CATEGORIES:Programs
ATTACH;FMTTYPE=image/jpeg:https://athenshistorical.org/wp-content/uploads/2020/10/leaves.jpg
END:VEVENT
BEGIN:VEVENT
DTSTART;TZID=UTC:20161208T173000
DTEND;TZID=UTC:20161208T193000
DTSTAMP:20260425T204011
CREATED:20201018T171451Z
LAST-MODIFIED:20201018T171451Z
UID:576-1481218200-1481225400@athenshistorical.org
SUMMARY:AHS 2016 Holiday Party!
DESCRIPTION:Come celebrate a year of preservation and programs with the Athens Historical Society!\nWe will provide snacks and beverages\, and have a little fun just as the holiday season starts to swing into action.\nWe’ll even have some great Athens-themed stocking stuffers and gifts to make your shopping easier!\nMost importantly\, we will be announcing the next recipient of our Augustus Longstreet Hull Award\, who will be honored at our Annual Meeting on January 15th\, 2017.\nWe are all truly excited\, for the contributions and hard work of this honoree has made so much Athens and Georgia history accessible\, usable\, and understandable.\nWe hope to see you there for a lovely evening of friendship\, history\, and a very positive start to the New Year!\nParking is available behind the Cobb House and along the streets in neighboring Cobbham.
URL:https://athenshistorical.org/event/ahs-2016-holiday-party/
LOCATION:T.R.R. Cobb House Museum\, 175 Hill Street\, Athens\, GA\, 30601\, United States
CATEGORIES:Celebration
ATTACH;FMTTYPE=image/png:https://athenshistorical.org/wp-content/uploads/2020/10/AHS.png
END:VEVENT
END:VCALENDAR