BEGIN:VCALENDAR
VERSION:2.0
PRODID:-//Athens Historical Society - ECPv6.15.16//NONSGML v1.0//EN
CALSCALE:GREGORIAN
METHOD:PUBLISH
X-WR-CALNAME:Athens Historical Society
X-ORIGINAL-URL:https://athenshistorical.org
X-WR-CALDESC:Events for Athens Historical Society
REFRESH-INTERVAL;VALUE=DURATION:PT1H
X-Robots-Tag:noindex
X-PUBLISHED-TTL:PT1H
BEGIN:VTIMEZONE
TZID:UTC
BEGIN:STANDARD
TZOFFSETFROM:+0000
TZOFFSETTO:+0000
TZNAME:UTC
DTSTART:20250101T000000
END:STANDARD
END:VTIMEZONE
BEGIN:VEVENT
DTSTART;TZID=UTC:20260607T150000
DTEND;TZID=UTC:20260607T160000
DTSTAMP:20260423T143329
CREATED:20260402T002300Z
LAST-MODIFIED:20260402T004649Z
UID:1912-1780844400-1780848000@athenshistorical.org
SUMMARY:Women's Experiences in the American Revolution
DESCRIPTION:Join us for “Women’s Experience in the American Revolution\,” a talk by Dr. Dee Gillespie. Dr. Gillespie is a Professor of U.S. History at the University of North Georgia. \nThe American Revolution impacted women living in the British North American colonies\, creating new opportunities and bringing hardship to their families and communities. \nThis talk will discuss both patriot and enslaved women’s experiences as well as how women advocated to be included in the new nation’s vision of equality and liberty. \nThe event is cohosted by AHS and the Athens-Clarke County Library. \nJune 7\, at 3:00pm in the Appleton Auditorium at the Baxter Street Library
URL:https://athenshistorical.org/event/womens-experiences-in-the-american-revolution/
CATEGORIES:Book Event
END:VEVENT
END:VCALENDAR