BEGIN:VCALENDAR
VERSION:2.0
PRODID:-//Athens Historical Society - ECPv6.15.16//NONSGML v1.0//EN
CALSCALE:GREGORIAN
METHOD:PUBLISH
X-WR-CALNAME:Athens Historical Society
X-ORIGINAL-URL:https://athenshistorical.org
X-WR-CALDESC:Events for Athens Historical Society
REFRESH-INTERVAL;VALUE=DURATION:PT1H
X-Robots-Tag:noindex
X-PUBLISHED-TTL:PT1H
BEGIN:VTIMEZONE
TZID:UTC
BEGIN:STANDARD
TZOFFSETFROM:+0000
TZOFFSETTO:+0000
TZNAME:UTC
DTSTART:20150101T000000
END:STANDARD
END:VTIMEZONE
BEGIN:VEVENT
DTSTART;TZID=UTC:20240717T170000
DTEND;TZID=UTC:20240717T183000
DTSTAMP:20260425T234334
CREATED:20240701T183803Z
LAST-MODIFIED:20240701T183803Z
UID:1626-1721235600-1721241000@athenshistorical.org
SUMMARY:Mini-Film Showing at Ciné
DESCRIPTION:Join the Athens Historical Society at 5:00pm on July 17 at Ciné in downtown Athens for a FREE showing of a series of short films! \n \nAt 5pm on Wednesday\, July 17th at Ciné\, the Athens Historical Society will host a viewing and discussion of its first films on Athens History.\n \nThe Athens Film Project is launching the first three of its very short films–just 5-7 minutes each–at Ciné’s Lab at 5pm on Wednesday\, July 17. A project of the Athens Historical Society that began during the early days of the pandemic\, the Film Project’s goal is to create films on Athens history for local 11th grade U.S. History classes.\n \nExecutive producer\, Cindy Hahamovitch\, says the idea was to make history meaningful by making it local. “We started with the standards–the facts and concepts–Georgia teachers have to teach and looked for local stories to illuminate them. So\, teachers teaching about the Industrial Revolution could say\, ‘Did you know that Athens was an early and important part of the Industrial Revolution?’ and then pop in our 6-minute film.”\n \nThe first films to be completed are  “Emancipation” by Grady School graduate film student Emani Saucier and “the Knox Institute\,” Athen’s famous Freedmen’s Bureau School\, by local resident Jesse Freeman. Georgia Film Academy instructor Phil Bergquist is putting the finishing touches on Industrial Athens I\, which chronicles the history of the textile industry in Athens through the Civil War. A film on the history of Athens industry after the war is in the works\, as are films on the founding of Athens\, Reconstruction\, and the Cold War. Future topics include slavery\, the Civil War\, and the New Deal.\n \nJane McPherson\, a UGA Social Work professor and one of three Film Committee founders\, says “the Film Project has been a true town and gown collaboration.” Three members of the Film Committee are UGA faculty\, but it includes community members\, local high school teachers\, the Social Studies Coordinator for the ACC school system\, and the Archives and Special Collections Coordinator for the Athens Regional Library System. Peggy Galis\, who came up with the idea of making short films on Athens history for local classrooms\, has raised over $100\,000 from local supporters\, including the Langdale Foundation\, Margaret Smith\, Grady Thrasher\, and Kathy Prescott. Grants from Georgia Humanities and the National Society of The Colonial Dames of America in the State of Georgia helped jumpstart the project. UGA’s History Department help fund the graduate student fellows who research and write the treatments and help to secure images and permission to use them.\n \nHistory students at Cedar Shoals High School vetted the first two films and gave their stamp of approval. After watching the film on Emancipation by Emani Saucier\, the first word out of one student’s mouth was “amazing.” “There was general agreement that the film was excellent\,” recalled teacher Montu Miller. Students particularly liked the images\, and “the…local stories…they hadn’t heard of before….” Their complaint about the film on the Knox School by Jesse Freeman was that it was too short! Student and teacher consultants will soon give feedback on the rough cut of Industrial Athens Part I.\n \nResearcher and script writer Bryant Barnes\, a PhD student in History at UGA\, said\, “I loved history when I was growing up\, but it always seemed like it was happening somewhere else\, somewhere more exciting or important. As I researched the stories for these films\, Athens came to life. Street names\, old buildings\, and scenic views took on new meaning and significance.”\n \nThe launch event will screen the three short films after which a panel of Film Project members and filmmakers will take questions about the films and the process. Food and beverages will be available. The event is open to the public though seating is limited.\n \nFor information\, contact Nellie Brunson\, AHS board member\, at  athenshistorical@gmail.com.
URL:https://athenshistorical.org/event/mini-film-showing-at-cine/
LOCATION:Cine\, 234 W Hancock Ave\, Athens\, GA\, 30601\, United States
CATEGORIES:Celebration,Programs
END:VEVENT
BEGIN:VEVENT
DTSTART;TZID=UTC:20191211T173000
DTEND;TZID=UTC:20191211T200000
DTSTAMP:20260425T234334
CREATED:20201001T211649Z
LAST-MODIFIED:20201001T212530Z
UID:132-1576085400-1576094400@athenshistorical.org
SUMMARY:AHS Holiday Celebration
DESCRIPTION:Please join us for our annual holiday celebration! We will be on the top floor of the T.R.R. Cobb House.\nParking is available behind the T.R.R. Cobb House and along Pope and Hill Streets.
URL:https://athenshistorical.org/event/ahs-holiday-celebration/
LOCATION:T.R.R. Cobb House Museum\, 175 Hill Street\, Athens\, GA\, 30601\, United States
CATEGORIES:Celebration
ATTACH;FMTTYPE=image/png:https://athenshistorical.org/wp-content/uploads/2020/10/78342497_10156350877621805_8176917269662662656_o.png
END:VEVENT
BEGIN:VEVENT
DTSTART;TZID=UTC:20191020T150000
DTEND;TZID=UTC:20191020T170000
DTSTAMP:20260425T234334
CREATED:20201015T174749Z
LAST-MODIFIED:20201015T175303Z
UID:468-1571583600-1571590800@athenshistorical.org
SUMMARY:Winterville: Clarke County's "Other Town"
DESCRIPTION:The AHS Fall program will be on (and in!) Athens’ neighboring town of Winterville on Sunday\, October 20. The program will begin at 3:00 pm in the historic Winterville Auditorium (373 North Church Street) and will feature the unveiling of the Winterville Historic Map\, a lecture by historian and museum curator Jonathan Scott of the Winterville Historic Preservation Commission\, and an opportunity to tour community and local sites such as the Carter-Coile Country Doctors Museum and the Winterville Depot. A reception will follow the program. For parking: the Auditorium is accessed for parking off Winter Street\, limited parking is available at the Community Center and Regional Educational Service Agency (RESA) lots\, and overflow parking is also available at the Winterville Baptist Church lot just down from the building at the south end of Winter Street. (Drawing by Bill Mann)
URL:https://athenshistorical.org/event/winterville-clarke-countys-other-town/
LOCATION:Winterville Auditorium\, 373 North Church Street\, Winterville\, GA\, 30683\, United States
CATEGORIES:Celebration
ATTACH;FMTTYPE=image/jpeg:https://athenshistorical.org/wp-content/uploads/2020/10/Winterville.jpg
END:VEVENT
BEGIN:VEVENT
DTSTART;TZID=UTC:20171214T180000
DTEND;TZID=UTC:20171214T200000
DTSTAMP:20260425T234334
CREATED:20201018T165705Z
LAST-MODIFIED:20201018T165705Z
UID:562-1513274400-1513281600@athenshistorical.org
SUMMARY:AHS Holiday Party
DESCRIPTION:Join us for out holiday party at the fabulous Taylor-Grady House! Enjoy refreshments\, shop our selection of Athens-centric merchandise\, and mingle with your favorite Athens history buffs. A highlight will be the announcement of the recipient of the 2018 Augustus Longstreet Hull Award. You won’t want to miss this event!\nNon-member tickets are $10\, or join at the door!
URL:https://athenshistorical.org/event/ahs-holiday-party/
LOCATION:The Taylor Grady House\, 634 Prince Ave\, Athens\, GA\, 30601\, United States
CATEGORIES:Celebration
ATTACH;FMTTYPE=image/jpeg:https://athenshistorical.org/wp-content/uploads/2020/10/holiday.jpg
END:VEVENT
BEGIN:VEVENT
DTSTART;TZID=UTC:20161208T173000
DTEND;TZID=UTC:20161208T193000
DTSTAMP:20260425T234334
CREATED:20201018T171451Z
LAST-MODIFIED:20201018T171451Z
UID:576-1481218200-1481225400@athenshistorical.org
SUMMARY:AHS 2016 Holiday Party!
DESCRIPTION:Come celebrate a year of preservation and programs with the Athens Historical Society!\nWe will provide snacks and beverages\, and have a little fun just as the holiday season starts to swing into action.\nWe’ll even have some great Athens-themed stocking stuffers and gifts to make your shopping easier!\nMost importantly\, we will be announcing the next recipient of our Augustus Longstreet Hull Award\, who will be honored at our Annual Meeting on January 15th\, 2017.\nWe are all truly excited\, for the contributions and hard work of this honoree has made so much Athens and Georgia history accessible\, usable\, and understandable.\nWe hope to see you there for a lovely evening of friendship\, history\, and a very positive start to the New Year!\nParking is available behind the Cobb House and along the streets in neighboring Cobbham.
URL:https://athenshistorical.org/event/ahs-2016-holiday-party/
LOCATION:T.R.R. Cobb House Museum\, 175 Hill Street\, Athens\, GA\, 30601\, United States
CATEGORIES:Celebration
ATTACH;FMTTYPE=image/png:https://athenshistorical.org/wp-content/uploads/2020/10/AHS.png
END:VEVENT
END:VCALENDAR