BEGIN:VCALENDAR
VERSION:2.0
PRODID:-//Athens Historical Society - ECPv6.15.16//NONSGML v1.0//EN
CALSCALE:GREGORIAN
METHOD:PUBLISH
X-WR-CALNAME:Athens Historical Society
X-ORIGINAL-URL:https://athenshistorical.org
X-WR-CALDESC:Events for Athens Historical Society
REFRESH-INTERVAL;VALUE=DURATION:PT1H
X-Robots-Tag:noindex
X-PUBLISHED-TTL:PT1H
BEGIN:VTIMEZONE
TZID:UTC
BEGIN:STANDARD
TZOFFSETFROM:+0000
TZOFFSETTO:+0000
TZNAME:UTC
DTSTART:20170101T000000
END:STANDARD
END:VTIMEZONE
BEGIN:VEVENT
DTSTART;TZID=UTC:20240225T150000
DTEND;TZID=UTC:20240225T163000
DTSTAMP:20260425T153139
CREATED:20240607T170610Z
LAST-MODIFIED:20240607T171209Z
UID:1612-1708873200-1708878600@athenshistorical.org
SUMMARY:Author Event: Michael Thurmond
DESCRIPTION:After the Annual Meeting on February 25th at 3:00 p.m. at the Athens-Clarke County Library we will feature Michael Thurmond and his new book on James Oglethorpe\, Father of Georgia: A Founder’s Journey from Slave Trader to Abolitionist. 
URL:https://athenshistorical.org/event/author-event-michael-thurmond/
CATEGORIES:Book Event,Book Signing
END:VEVENT
BEGIN:VEVENT
DTSTART;TZID=UTC:20210718T150000
DTEND;TZID=UTC:20210718T163000
DTSTAMP:20260425T153139
CREATED:20210521T170731Z
LAST-MODIFIED:20210521T170731Z
UID:1339-1626620400-1626625800@athenshistorical.org
SUMMARY:Athens Streets and Neighborhoods with Gary Doster
DESCRIPTION:Join the Athens Historical Society and the Heritage Room in welcoming Gary Doster and his new book Athens Streets and Neighborhoods. More information to come. We hope to see you IN the library for this event Sunday\, July 18\, 2021 at 3 pm! \n 
URL:https://athenshistorical.org/event/athens-streets-and-neighborhoods-with-gary-doster/
LOCATION:Athens-Clarke County Library\, 2025 Baxter Street\, Athens\, GA\, 30606\, United States
CATEGORIES:Book Event,Book Signing,Programs
END:VEVENT
BEGIN:VEVENT
DTSTART;TZID=UTC:20200126T150000
DTEND;TZID=UTC:20200126T170000
DTSTAMP:20260425T153139
CREATED:20201001T211410Z
LAST-MODIFIED:20201001T211410Z
UID:127-1580050800-1580058000@athenshistorical.org
SUMMARY:Annual Meeting and GA POW Camps Book Signing
DESCRIPTION:At our January 26\, 2020 event\, authors Kathryn Roe Coker and Jason Wetzel will describe the impact of the more than 12\,000 German POWs who lived and worked in the Peach State during World War II. After the program\, their book on the subject will be available for sale and signing. \nWe will conduct a brief business meeting for members before the event.
URL:https://athenshistorical.org/event/annual-meeting-and-ga-pow-camps-book-signing/
LOCATION:Athens-Clarke County Library\, 2025 Baxter Street\, Athens\, GA\, 30606\, United States
CATEGORIES:Book Signing
ATTACH;FMTTYPE=image/jpeg:https://athenshistorical.org/wp-content/uploads/2020/10/82763486_10156467682176805_1405165243138572288_n.jpg
END:VEVENT
BEGIN:VEVENT
DTSTART;TZID=UTC:20190825T150000
DTEND;TZID=UTC:20190825T170000
DTSTAMP:20260425T153139
CREATED:20201015T175706Z
LAST-MODIFIED:20201015T175706Z
UID:481-1566745200-1566752400@athenshistorical.org
SUMMARY:Across the River with the Authors
DESCRIPTION:Athens Historical Society and the Athens-Clarke County Library Heritage Room present an afternoon with the authors of Across the River\, Maxine Easom and Patsy Arnold. Join us for a talk\, reception\, and book signing.
URL:https://athenshistorical.org/event/across-the-river-with-the-authors/
LOCATION:Athens-Clarke County Library\, 2025 Baxter Street\, Athens\, GA\, 30606\, United States
CATEGORIES:Book Signing
ATTACH;FMTTYPE=image/jpeg:https://athenshistorical.org/wp-content/uploads/2020/10/AcrosstheRiver.jpg
END:VEVENT
BEGIN:VEVENT
DTSTART;TZID=UTC:20190608T160000
DTEND;TZID=UTC:20190608T180000
DTSTAMP:20260425T153139
CREATED:20201015T180202Z
LAST-MODIFIED:20201015T180202Z
UID:486-1560009600-1560016800@athenshistorical.org
SUMMARY:Michael Thurmond's A Story Untold Book Signing
DESCRIPTION:Please join us for a book signing in the Classic Center’s main ballroom during the release of a new edition of Michael Thurmond’s A Story Untold! Mr. Thurmond will be available to sign books from 4-5pm\, then he will give a brief talk before continuing to sign books until 6pm.\nLight refreshments will be served.\nBooks will be available for $27 (including tax).
URL:https://athenshistorical.org/event/michael-thurmonds-a-story-untold-book-signing/
LOCATION:The Classic Center\, 300 N Thomas St\, Athens\, GA\, 30601\, United States
CATEGORIES:Book Signing
ATTACH;FMTTYPE=image/jpeg:https://athenshistorical.org/wp-content/uploads/2020/10/08-image11.jpg
END:VEVENT
BEGIN:VEVENT
DTSTART;TZID=UTC:20181021T150000
DTEND;TZID=UTC:20181021T170000
DTSTAMP:20260425T153139
CREATED:20201018T164603Z
LAST-MODIFIED:20201018T164603Z
UID:550-1540134000-1540141200@athenshistorical.org
SUMMARY:A Story Untold: Black Men and Women in Athens History
DESCRIPTION:Join Athens Historical Society and the Athens-Clarke County Library Heritage Room for this monumental anniversary. Mr. Thurmond’s presentation will cover the rich Heritage and History of African-American Athenians on the 40th anniversary of the publishing of his book A Story Untold: Black Men and Women in Athens History.
URL:https://athenshistorical.org/event/a-story-untold-black-men-and-women-in-athens-history/
LOCATION:Athens-Clarke County Library\, 2025 Baxter Street\, Athens\, GA\, 30606\, United States
CATEGORIES:Book Signing
ATTACH;FMTTYPE=image/jpeg:https://athenshistorical.org/wp-content/uploads/2020/10/oct21.jpg
END:VEVENT
BEGIN:VEVENT
DTSTART;TZID=UTC:20180722T150000
DTEND;TZID=UTC:20180722T170000
DTSTAMP:20260425T153139
CREATED:20201018T164851Z
LAST-MODIFIED:20201018T164851Z
UID:553-1532271600-1532278800@athenshistorical.org
SUMMARY:Antebellum Architecture in Athens
DESCRIPTION:James W. Lineberger will conduct this historical survey of the Greek Revival style of architecture in Athens. It features the 18 prominent built environments in this category. Not only will the presenter give in-depth descriptions of 10 of the buildings\, he will also give background on the history of their occupants. With a diverse conglomerate of 19th century personalities\, this presentation is both lively and informative.\nMr. Lineberger has written a book entitled Architecture in Athens: Then and Now\, and teaches a course about Greek Revival Architecture at Osher Lifelong Learning Institute.
URL:https://athenshistorical.org/event/antebellum-architecture-in-athens/
LOCATION:Athens-Clarke County Library\, 2025 Baxter Street\, Athens\, GA\, 30606\, United States
CATEGORIES:Book Signing
END:VEVENT
END:VCALENDAR